BEGIN:VCALENDAR
VERSION:2.0
PRODID:-//Norsk Berner Sennenhundklubb - ECPv6.15.17.1//NONSGML v1.0//EN
CALSCALE:GREGORIAN
METHOD:PUBLISH
X-WR-CALNAME:Norsk Berner Sennenhundklubb
X-ORIGINAL-URL:https://berner-sennen.no
X-WR-CALDESC:Arrangement for Norsk Berner Sennenhundklubb
REFRESH-INTERVAL;VALUE=DURATION:PT1H
X-Robots-Tag:noindex
X-PUBLISHED-TTL:PT1H
BEGIN:VTIMEZONE
TZID:Europe/Oslo
BEGIN:DAYLIGHT
TZOFFSETFROM:+0100
TZOFFSETTO:+0200
TZNAME:CEST
DTSTART:20210328T010000
END:DAYLIGHT
BEGIN:STANDARD
TZOFFSETFROM:+0200
TZOFFSETTO:+0100
TZNAME:CET
DTSTART:20211031T010000
END:STANDARD
BEGIN:DAYLIGHT
TZOFFSETFROM:+0100
TZOFFSETTO:+0200
TZNAME:CEST
DTSTART:20220327T010000
END:DAYLIGHT
BEGIN:STANDARD
TZOFFSETFROM:+0200
TZOFFSETTO:+0100
TZNAME:CET
DTSTART:20221030T010000
END:STANDARD
BEGIN:DAYLIGHT
TZOFFSETFROM:+0100
TZOFFSETTO:+0200
TZNAME:CEST
DTSTART:20230326T010000
END:DAYLIGHT
BEGIN:STANDARD
TZOFFSETFROM:+0200
TZOFFSETTO:+0100
TZNAME:CET
DTSTART:20231029T010000
END:STANDARD
END:VTIMEZONE
BEGIN:VEVENT
DTSTART;TZID=Europe/Oslo:20220920T190000
DTEND;TZID=Europe/Oslo:20220920T210000
DTSTAMP:20260421T122234
CREATED:20220919T213631Z
LAST-MODIFIED:20220919T213631Z
UID:8046-1663700400-1663707600@berner-sennen.no
SUMMARY:Tirsdagstreff Rallylydighet (Oslo og omegn)
DESCRIPTION:Vi leker oss litt med Rallylydighet.
URL:https://berner-sennen.no/hendelse/tirsdagstreff-rallylydighet-oslo-og-omegn/
LOCATION:Østmarkshytta Norsk Folkehjelp\, Østmarksveien 140
CATEGORIES:Oslo og omegn
END:VEVENT
BEGIN:VEVENT
DTSTART;TZID=Europe/Oslo:20220904T120000
DTEND;TZID=Europe/Oslo:20220904T150000
DTSTAMP:20260421T122234
CREATED:20220813T222144Z
LAST-MODIFIED:20220830T215900Z
UID:7941-1662292800-1662303600@berner-sennen.no
SUMMARY:Bernerens dag (Oslo og Omegn)
DESCRIPTION:Bernerens dag \nVi har gleden av å invitere dere til Bernerens dag søndag 04.09.22 kl. 12.00 på Østmarkhytta v/Ulsrudvannet. \nAvdelingen ønsker å vise bruksområdene til Berner Sennenhund. \nVi arrangerer trekk av hundevogner. Det er anledning for barna å sitte på. \nVidere så blir det muligheter for å prøve kløv\, trene med agilityapparater. Avdelingen stiller med kompetente personer som kan svare på spørsmål om hundehold og utfordringer vi opplever med det. Både gemytt og helse. \nDet blir salg av kaffe\, kake\, pølser og brus. \nDet blir Loddsalg og vi sier ja takk til gevinster\, som kan leveres samme dag. \nDere er velkomne til vår avdeling. \nMed vennligst hilsen \nNBSK avd. Oslo & omegn \nv/styret.
URL:https://berner-sennen.no/hendelse/bernerens-dag-oslo-og-omegn/
LOCATION:Østmarkshytta Norsk Folkehjelp\, Østmarksveien 140
CATEGORIES:Oslo og omegn
END:VEVENT
BEGIN:VEVENT
DTSTART;TZID=Europe/Oslo:20220830T190000
DTEND;TZID=Europe/Oslo:20220830T210000
DTSTAMP:20260421T122234
CREATED:20220813T223025Z
LAST-MODIFIED:20220813T223025Z
UID:7942-1661886000-1661893200@berner-sennen.no
SUMMARY:Tirsdagstreff (Oslo og omegn)
DESCRIPTION:Vi går en tur i nærområdet.
URL:https://berner-sennen.no/hendelse/tirsdagstreff-oslo-og-omegn/
LOCATION:Østmarkshytta Norsk Folkehjelp\, Østmarksveien 140
CATEGORIES:Oslo og omegn
END:VEVENT
BEGIN:VEVENT
DTSTART;TZID=Europe/Oslo:20220824T193000
DTEND;TZID=Europe/Oslo:20220824T210000
DTSTAMP:20260421T122234
CREATED:20220813T215848Z
LAST-MODIFIED:20220813T215848Z
UID:7931-1661369400-1661374800@berner-sennen.no
SUMMARY:Hverdagslydighet (Oslo og omegn)
DESCRIPTION:Hverdagslydighet med hundeinstruktør Kjersti Bjøntegaard fra Best4dogs. Vi trener hverdagslydighet ved hytta. Arrangement ligger på facebook siden.\nNBSK avd Oslo og omegn
URL:https://berner-sennen.no/hendelse/hverdagslydighet-oslo-og-omegn/
LOCATION:Østmarkshytta Norsk Folkehjelp\, Østmarksveien 140
CATEGORIES:Oslo og omegn
END:VEVENT
BEGIN:VEVENT
DTSTART;TZID=Europe/Oslo:20220823T190000
DTEND;TZID=Europe/Oslo:20220823T210000
DTSTAMP:20260421T122234
CREATED:20220813T221654Z
LAST-MODIFIED:20220813T221654Z
UID:7937-1661281200-1661288400@berner-sennen.no
SUMMARY:Tirsdagstreff / dugnad (Oslo og omegn)
DESCRIPTION:Endelig er det klart for tirsdagstreff igjen \nVi starter med en liten dugnad så vi får det fint rundt hytta.\nDet vil bli servert kaffe\, brus og pølser.\nHåper vi ses
URL:https://berner-sennen.no/hendelse/tirsdagstreff-dugnad-oslo-og-omegn/
LOCATION:Østmarkshytta Norsk Folkehjelp\, Østmarksveien 140
CATEGORIES:Oslo og omegn
END:VEVENT
END:VCALENDAR