BEGIN:VCALENDAR
VERSION:2.0
PRODID:-//Norsk Berner Sennenhundklubb - ECPv6.15.17.1//NONSGML v1.0//EN
CALSCALE:GREGORIAN
METHOD:PUBLISH
X-ORIGINAL-URL:https://berner-sennen.no
X-WR-CALDESC:Arrangement for Norsk Berner Sennenhundklubb
REFRESH-INTERVAL;VALUE=DURATION:PT1H
X-Robots-Tag:noindex
X-PUBLISHED-TTL:PT1H
BEGIN:VTIMEZONE
TZID:Europe/Oslo
BEGIN:DAYLIGHT
TZOFFSETFROM:+0100
TZOFFSETTO:+0200
TZNAME:CEST
DTSTART:20180325T010000
END:DAYLIGHT
BEGIN:STANDARD
TZOFFSETFROM:+0200
TZOFFSETTO:+0100
TZNAME:CET
DTSTART:20181028T010000
END:STANDARD
BEGIN:DAYLIGHT
TZOFFSETFROM:+0100
TZOFFSETTO:+0200
TZNAME:CEST
DTSTART:20190331T010000
END:DAYLIGHT
BEGIN:STANDARD
TZOFFSETFROM:+0200
TZOFFSETTO:+0100
TZNAME:CET
DTSTART:20191027T010000
END:STANDARD
BEGIN:DAYLIGHT
TZOFFSETFROM:+0100
TZOFFSETTO:+0200
TZNAME:CEST
DTSTART:20200329T010000
END:DAYLIGHT
BEGIN:STANDARD
TZOFFSETFROM:+0200
TZOFFSETTO:+0100
TZNAME:CET
DTSTART:20201025T010000
END:STANDARD
BEGIN:DAYLIGHT
TZOFFSETFROM:+0100
TZOFFSETTO:+0200
TZNAME:CEST
DTSTART:20210328T010000
END:DAYLIGHT
BEGIN:STANDARD
TZOFFSETFROM:+0200
TZOFFSETTO:+0100
TZNAME:CET
DTSTART:20211031T010000
END:STANDARD
END:VTIMEZONE
BEGIN:VEVENT
DTSTART;TZID=Europe/Oslo:20200930T183000
DTEND;TZID=Europe/Oslo:20200930T193000
DTSTAMP:20260423T121215
CREATED:20200927T153644Z
LAST-MODIFIED:20200930T131245Z
UID:6493-1601490600-1601494200@berner-sennen.no
SUMMARY:AVLYST - Onsdagstreff: Rallylydighet (Asker og Bærum)
DESCRIPTION:Vi møtes kl 18.30 bak Østerås bo- og behandlingssenter. Eiksveien 73.
URL:https://berner-sennen.no/hendelse/onsdagstreff-rallylydighet-asker-og-baerum/
LOCATION:Østerås bo og behandlingssenter
CATEGORIES:Asker og Bærum
END:VEVENT
BEGIN:VEVENT
DTSTART;TZID=Europe/Oslo:20200923T183000
DTEND;TZID=Europe/Oslo:20200923T193000
DTSTAMP:20260423T121215
CREATED:20200922T191436Z
LAST-MODIFIED:20200922T191436Z
UID:6489-1600885800-1600889400@berner-sennen.no
SUMMARY:Onsdagstreff\, 23.sept: Agility kl 18.30 (Asker og Bærum)
DESCRIPTION:Vi møtes kl 18.30 på baksiden av Østerås bo- og behandlingssenter\,  Eiksveien 73. Vi setter opp noen hinder og vi får veiledning av Marianne Sandvik.
URL:https://berner-sennen.no/hendelse/onsdagstreff-23-sept-agility-kl-18-30-asker-og-baerum/
LOCATION:Østerås bo og behandlingssenter
CATEGORIES:Asker og Bærum
END:VEVENT
BEGIN:VEVENT
DTSTART;TZID=Europe/Oslo:20200826T183000
DTEND;TZID=Europe/Oslo:20200826T203000
DTSTAMP:20260423T121215
CREATED:20200816T202503Z
LAST-MODIFIED:20200816T202503Z
UID:6356-1598466600-1598473800@berner-sennen.no
SUMMARY:Rallylydighet og medlemsmøte på Østerås (Asker og Bærum)
DESCRIPTION:Vi møtes kl 18.30 på baksiden av Østerås bo- og behandlingssenter\, Eiksveien 73. Det blir rallylydighetstrening med etterfølgende medlemsmøte. Vi ha med kaffe og kjeks:-) Fint om du har noen forslag\, ideer. Vel møtt.
URL:https://berner-sennen.no/hendelse/rallylydighet-og-medlemsmote-pa-osteras-asker-og-baerum/
LOCATION:Østerås bo og behandlingssenter
CATEGORIES:Asker og Bærum
END:VEVENT
BEGIN:VEVENT
DTSTART;TZID=Europe/Oslo:20200610T190000
DTEND;TZID=Europe/Oslo:20200610T200000
DTSTAMP:20260423T121215
CREATED:20200519T150746Z
LAST-MODIFIED:20200519T150746Z
UID:6193-1591815600-1591819200@berner-sennen.no
SUMMARY:Rallylydighet ved Østerås
DESCRIPTION:Vi møtes bak Østerås bo- og behandlingssenter.
URL:https://berner-sennen.no/hendelse/rallylydighet-ved-osteras/
LOCATION:Østerås bo og behandlingssenter
CATEGORIES:Asker og Bærum
END:VEVENT
BEGIN:VEVENT
DTSTART;TZID=Europe/Oslo:20200527T190000
DTEND;TZID=Europe/Oslo:20200527T200000
DTSTAMP:20260423T121215
CREATED:20200519T145901Z
LAST-MODIFIED:20200519T145901Z
UID:6191-1590606000-1590609600@berner-sennen.no
SUMMARY:Agility ved Østerås bo- og behandlingssenter
DESCRIPTION:Vi møtes bak Østerås bo- og behandlingssenter og setter opp noen hinder.
URL:https://berner-sennen.no/hendelse/agility-ved-osteras-bo-og-behandlingssenter/
LOCATION:Østerås bo og behandlingssenter
CATEGORIES:Asker og Bærum
END:VEVENT
BEGIN:VEVENT
DTSTART;TZID=Europe/Oslo:20190925T190000
DTEND;TZID=Europe/Oslo:20190925T200000
DTSTAMP:20260423T121215
CREATED:20190902T194927Z
LAST-MODIFIED:20190924T202059Z
UID:5563-1569438000-1569441600@berner-sennen.no
SUMMARY:Agility (avd Asker og Bærum) - AVLYST
DESCRIPTION:Vi møtes kl 19 bak ved Østerås bo og behandlingssenter.
URL:https://berner-sennen.no/hendelse/agility-avd-asker-og-baerum/
LOCATION:Østerås bo og behandlingssenter
CATEGORIES:Asker og Bærum
END:VEVENT
BEGIN:VEVENT
DTSTART;TZID=Europe/Oslo:20190821T190000
DTEND;TZID=Europe/Oslo:20190821T190000
DTSTAMP:20260423T121215
CREATED:20190818T201329Z
LAST-MODIFIED:20190818T201329Z
UID:5540-1566414000-1566414000@berner-sennen.no
SUMMARY:Agility og medlemsmøte
DESCRIPTION:Vi møtes på baksiden av Østerås bo – og behandlingssenter. Vi setter opp agilityutstyr. Medlemsmøte tar vi rett etterpå. \n 
URL:https://berner-sennen.no/hendelse/agility-og-medlemsmote-2/
LOCATION:Østerås bo og behandlingssenter
CATEGORIES:Asker og Bærum
END:VEVENT
BEGIN:VEVENT
DTSTART;TZID=Europe/Oslo:20190612T190000
DTEND;TZID=Europe/Oslo:20190612T200000
DTSTAMP:20260423T121215
CREATED:20190106T201745Z
LAST-MODIFIED:20190106T201745Z
UID:4994-1560366000-1560369600@berner-sennen.no
SUMMARY:Agility (Asker og Bærum)
DESCRIPTION:Vi møtes kl 19 bak Østerås bo- og behandlingssenter. Vi setter opp diverse agility-utstyr.
URL:https://berner-sennen.no/hendelse/agility-asker-og-baerum-2/
LOCATION:Østerås bo og behandlingssenter
CATEGORIES:Asker og Bærum
END:VEVENT
BEGIN:VEVENT
DTSTART;TZID=Europe/Oslo:20190515T190000
DTEND;TZID=Europe/Oslo:20190515T200000
DTSTAMP:20260423T121215
CREATED:20190106T195845Z
LAST-MODIFIED:20190106T195845Z
UID:4988-1557946800-1557950400@berner-sennen.no
SUMMARY:Agility (Asker og Bærum)
DESCRIPTION:Vi møtes kl 19  bak Østerås bo og behandlingssenter. Da blir det satt opp agility-utstyr.
URL:https://berner-sennen.no/hendelse/agility-asker-og-baerum/
LOCATION:Østerås bo og behandlingssenter
CATEGORIES:Asker og Bærum
END:VEVENT
END:VCALENDAR