BEGIN:VCALENDAR
VERSION:2.0
PRODID:-//Norsk Berner Sennenhundklubb - ECPv6.15.17.1//NONSGML v1.0//EN
CALSCALE:GREGORIAN
METHOD:PUBLISH
X-WR-CALNAME:Norsk Berner Sennenhundklubb
X-ORIGINAL-URL:https://berner-sennen.no
X-WR-CALDESC:Arrangement for Norsk Berner Sennenhundklubb
REFRESH-INTERVAL;VALUE=DURATION:PT1H
X-Robots-Tag:noindex
X-PUBLISHED-TTL:PT1H
BEGIN:VTIMEZONE
TZID:Europe/Oslo
BEGIN:DAYLIGHT
TZOFFSETFROM:+0100
TZOFFSETTO:+0200
TZNAME:CEST
DTSTART:20160327T010000
END:DAYLIGHT
BEGIN:STANDARD
TZOFFSETFROM:+0200
TZOFFSETTO:+0100
TZNAME:CET
DTSTART:20161030T010000
END:STANDARD
BEGIN:DAYLIGHT
TZOFFSETFROM:+0100
TZOFFSETTO:+0200
TZNAME:CEST
DTSTART:20170326T010000
END:DAYLIGHT
BEGIN:STANDARD
TZOFFSETFROM:+0200
TZOFFSETTO:+0100
TZNAME:CET
DTSTART:20171029T010000
END:STANDARD
BEGIN:DAYLIGHT
TZOFFSETFROM:+0100
TZOFFSETTO:+0200
TZNAME:CEST
DTSTART:20180325T010000
END:DAYLIGHT
BEGIN:STANDARD
TZOFFSETFROM:+0200
TZOFFSETTO:+0100
TZNAME:CET
DTSTART:20181028T010000
END:STANDARD
BEGIN:DAYLIGHT
TZOFFSETFROM:+0100
TZOFFSETTO:+0200
TZNAME:CEST
DTSTART:20190331T010000
END:DAYLIGHT
BEGIN:STANDARD
TZOFFSETFROM:+0200
TZOFFSETTO:+0100
TZNAME:CET
DTSTART:20191027T010000
END:STANDARD
BEGIN:DAYLIGHT
TZOFFSETFROM:+0100
TZOFFSETTO:+0200
TZNAME:CEST
DTSTART:20200329T010000
END:DAYLIGHT
BEGIN:STANDARD
TZOFFSETFROM:+0200
TZOFFSETTO:+0100
TZNAME:CET
DTSTART:20201025T010000
END:STANDARD
BEGIN:DAYLIGHT
TZOFFSETFROM:+0100
TZOFFSETTO:+0200
TZNAME:CEST
DTSTART:20210328T010000
END:DAYLIGHT
BEGIN:STANDARD
TZOFFSETFROM:+0200
TZOFFSETTO:+0100
TZNAME:CET
DTSTART:20211031T010000
END:STANDARD
BEGIN:DAYLIGHT
TZOFFSETFROM:+0100
TZOFFSETTO:+0200
TZNAME:CEST
DTSTART:20220327T010000
END:DAYLIGHT
BEGIN:STANDARD
TZOFFSETFROM:+0200
TZOFFSETTO:+0100
TZNAME:CET
DTSTART:20221030T010000
END:STANDARD
BEGIN:DAYLIGHT
TZOFFSETFROM:+0100
TZOFFSETTO:+0200
TZNAME:CEST
DTSTART:20230326T010000
END:DAYLIGHT
BEGIN:STANDARD
TZOFFSETFROM:+0200
TZOFFSETTO:+0100
TZNAME:CET
DTSTART:20231029T010000
END:STANDARD
END:VTIMEZONE
BEGIN:VEVENT
DTSTART;TZID=Europe/Oslo:20221016T120000
DTEND;TZID=Europe/Oslo:20221016T150000
DTSTAMP:20260421T184203
CREATED:20220813T225744Z
LAST-MODIFIED:20220813T225744Z
UID:7947-1665921600-1665932400@berner-sennen.no
SUMMARY:Søndagstur storøyodden\, Fornebu (Oslo og omegn)
DESCRIPTION:Info kommer
URL:https://berner-sennen.no/hendelse/sondagstur-storoyodden-fornebu-oslo-og-omegn/
LOCATION:Fornebu\, Lomiveien
CATEGORIES:Oslo og omegn
END:VEVENT
BEGIN:VEVENT
DTSTART;TZID=Europe/Oslo:20170524T190000
DTEND;TZID=Europe/Oslo:20170524T200000
DTSTAMP:20260421T184203
CREATED:20170326T192138Z
LAST-MODIFIED:20170326T192138Z
UID:3315-1495652400-1495656000@berner-sennen.no
SUMMARY:Trekk\, tur og sosialisering
DESCRIPTION:Trekkhundene møtes som vanlig på Levre skole. Vi som går tur møtes kl 19 på Fornebu ved enden av Lomiveien
URL:https://berner-sennen.no/hendelse/trekk-tur-og-sosialisering-2/
LOCATION:Fornebu\, Lomiveien
CATEGORIES:Asker og Bærum
END:VEVENT
END:VCALENDAR